BEGIN:VCALENDAR
VERSION:2.0
PRODID:-//NALA - ECPv6.15.15//NONSGML v1.0//EN
CALSCALE:GREGORIAN
METHOD:PUBLISH
X-ORIGINAL-URL:https://nala.org
X-WR-CALDESC:Events for NALA
REFRESH-INTERVAL;VALUE=DURATION:PT1H
X-Robots-Tag:noindex
X-PUBLISHED-TTL:PT1H
BEGIN:VTIMEZONE
TZID:America/Denver
BEGIN:DAYLIGHT
TZOFFSETFROM:-0700
TZOFFSETTO:-0600
TZNAME:MDT
DTSTART:20250309T090000
END:DAYLIGHT
BEGIN:STANDARD
TZOFFSETFROM:-0600
TZOFFSETTO:-0700
TZNAME:MST
DTSTART:20251102T080000
END:STANDARD
BEGIN:DAYLIGHT
TZOFFSETFROM:-0700
TZOFFSETTO:-0600
TZNAME:MDT
DTSTART:20260308T090000
END:DAYLIGHT
BEGIN:STANDARD
TZOFFSETFROM:-0600
TZOFFSETTO:-0700
TZNAME:MST
DTSTART:20261101T080000
END:STANDARD
BEGIN:DAYLIGHT
TZOFFSETFROM:-0700
TZOFFSETTO:-0600
TZNAME:MDT
DTSTART:20270314T090000
END:DAYLIGHT
BEGIN:STANDARD
TZOFFSETFROM:-0600
TZOFFSETTO:-0700
TZNAME:MST
DTSTART:20271107T080000
END:STANDARD
END:VTIMEZONE
BEGIN:VEVENT
DTSTART;TZID=America/Denver:20260424T123000
DTEND;TZID=America/Denver:20260424T170000
DTSTAMP:20260422T155737
CREATED:20260416T132849Z
LAST-MODIFIED:20260416T132926Z
UID:10000577-1777033800-1777050000@nala.org
SUMMARY:Level Up: LAW's 2026 Annual Seminar & Membership Meeting
DESCRIPTION:LAW-The Wyoming Paralegal Association\nDay 1 of LAW’s 2026 Annual Seminar & Membership Meeting\, a dynamic two-day event focused on learning\, networking\, and fun\, featuring practical instruction\, real-world strategy\, and experienced voices in the legal field. Please see attached Agenda for Day 1 for more information on the topics\, objectives and speaker bios. \nDay 1 Session Agenda: Level-Up-Agenda-Day-1.pdf \nDay 2 of LAW’s 2026 Annual Seminar & Membership Meeting\, a dynamic two-day event focused on learning\, networking\, and fun\, featuring practical instruction\, real-world strategy\, and experienced voices in the legal field. Please see attached Agenda for Day 2 for more information on the topics\, objectives and speaker bios \nDay 2 Session Agenda: Level-Up-Agenda-Day-2.pdf \nCLE Hours = 10 (1-Legal Ethics\, 3-Nonsubstantive\, 6-Substantive) \n 
URL:https://nala.org/event/357233/
LOCATION:Ramada Plaza Sheridan Hotel\, 1809 Sugarland Drive\, Sheridan\, WY\, 82801\, United States
CATEGORIES:Affiliated Associations CLE
END:VEVENT
END:VCALENDAR