BEGIN:VCALENDAR
VERSION:2.0
PRODID:-//NALA - ECPv6.15.15//NONSGML v1.0//EN
CALSCALE:GREGORIAN
METHOD:PUBLISH
X-ORIGINAL-URL:https://nala.org
X-WR-CALDESC:Events for NALA
REFRESH-INTERVAL;VALUE=DURATION:PT1H
X-Robots-Tag:noindex
X-PUBLISHED-TTL:PT1H
BEGIN:VTIMEZONE
TZID:America/New_York
BEGIN:DAYLIGHT
TZOFFSETFROM:-0500
TZOFFSETTO:-0400
TZNAME:EDT
DTSTART:20250309T070000
END:DAYLIGHT
BEGIN:STANDARD
TZOFFSETFROM:-0400
TZOFFSETTO:-0500
TZNAME:EST
DTSTART:20251102T060000
END:STANDARD
BEGIN:DAYLIGHT
TZOFFSETFROM:-0500
TZOFFSETTO:-0400
TZNAME:EDT
DTSTART:20260308T070000
END:DAYLIGHT
BEGIN:STANDARD
TZOFFSETFROM:-0400
TZOFFSETTO:-0500
TZNAME:EST
DTSTART:20261101T060000
END:STANDARD
BEGIN:DAYLIGHT
TZOFFSETFROM:-0500
TZOFFSETTO:-0400
TZNAME:EDT
DTSTART:20270314T070000
END:DAYLIGHT
BEGIN:STANDARD
TZOFFSETFROM:-0400
TZOFFSETTO:-0500
TZNAME:EST
DTSTART:20271107T060000
END:STANDARD
END:VTIMEZONE
BEGIN:VEVENT
DTSTART;TZID=America/New_York:20260417T083000
DTEND;TZID=America/New_York:20260417T170000
DTSTAMP:20260422T175811
CREATED:20260401T192314Z
LAST-MODIFIED:20260401T193328Z
UID:10000555-1776414600-1776445200@nala.org
SUMMARY:2026 Annual Seminar
DESCRIPTION:Tampa Bay Paralegal Association\, Inc.\nDescription: \nDUI – recent changes in the law and then sharing lessons from a DUI not guilty last month.\nTransition to a discussion about burdens of proof and some basic principles on appellate review in criminal and civil cases along with how to properly preserve appellate issues. \nA final transition to how to be a prepared and happy paralegal in any endeavors using a combination of psychological\, motivational and leadership principles that will improve levels of performance and joy at work. \nSession # 1: \nDUI – recent changes in the law and then sharing lessons from a DUI not guilty last month.\nTransition to a discussion about burdens of proof and some basic principles on appellate review in criminal and civil cases along with how to properly preserve appellate issues.\nFla. Stat. 316.193\nEnhanced Penalties\nBAC\n0.15: Enhanced fines and mandatory ignition interlock device (IID) for at least 6 months.\nDUI with Injury/Property Damage: Misdemeanor or felony depending on severity.\nDUI Manslaughter: Second-degree felony\, with new law strengthening penalties for repeat offenders as of Oct 1\, 2025 \nSession #2: An Overview of Human Trafficking \nBrief Description: Presentation and Discussion regarding Human Trafficking – types of trafficking\, victims\, and reporting.\nCapital Punishment/Severe Penalties: HB 1283 allows for the death penalty or life in prison for trafficking children under 12\, effective 2025.\nThe Safe Harbor Act: F.S. 409.1678 allows law enforcement to treat minors found in prostitution as victims (dependency) rather than criminals (delinquency)\, though studies suggest many still end up in jail.\nMandatory Signage:\nCertain businesses\, including massage parlors\, strip clubs\, and transportation hubs\, are required to display human trafficking public awareness signs.\nRICO Prosecution: Florida Statute §787.06 allows trafficking to be prosecuted as organized crime under the RICO Act\, with high-level penalties.\nNo Limitation on Child Sex Crimes: Florida Law allows for no statute of limitations on prosecuting sexual battery involving a child under 18 \nLearning Objectives: \nDefine and Recognize human trafficking and its types;\nRecognize the dynamics of human trafficking – trafficker strategies\, targeted victims;\nKnow how to take action – reporting\, and resources for victims. \nSession #3: (Multiple) \nCristina Blunt- Why Mediation Matters: Setting the Stage\n• Over 90% of civil cases in Florida settle before trial\, and the majority settle during mediation.\n• Florida courts actively promote mediation as a tool for reducing docket congestion and protecting litigant autonomy.\n• Mediation success rates in Florida hover between 70–80% across civil and insurance disputes.\n• Key Authorities\n• Fla. Stat. § 44.102 (court-ordered mediation)\n• Fla. R. Civ. P. 1.700 (rules common to mediation and arbitration)\n• Fla. R. Civ. P. 1.710\, 1.720\, 1.730 (mediation rules)\n• Florida Mediation Best Practices Handbook\, Third Edition (revised Apr. 10\, 2025)\,\nFla. Bar ADR Section & Hillsborough County Bar Association \nLindsey Guinand-\nTitle: Ethical Issues Surrounding AI Applications In Florida’s Legal Profession\nThe presentation is anticipated to address the following Rules of Professional Conduct and Florida Bar Ethics Opinion:\nRule 4-1.1 (Competence)\nRule 4-1.4 (Communication)\nRule 4-1.6 (Confidentiality of Information)\nRule 4-3.3 (Candor Towards the Tribunal)\nRule 4-5.3 (Responsibilities Regarding Nonlawyer Assistants)\nRule 4-8.4(c) (Misconduct)\nFlorida Ethics Opinion 24-1 \nThe presentation will focus on the ethical issues that surround the use of AI in the legal profession\, with emphasis on AI use by paralegals and other legal staff. The presentation will address the Bar’s 2024 Ethics Opinion on the use of AI; the Rules and how they are applied in practice; and recent cases wherein attorneys have been disciplined for improper use of AI.\nNash\, Peek & DiFiore – Panel discussion on best practices related to Florida Tort Reform\, House Bill 837\, Updates to Florida Rules of Civil Procedure\nKirstin Davis – Generative AI and the Paralegal’s Work: What You Need to Know Now\nUnderstand advancements in generative AI and how these evolving technologies are affecting the paralegal profession.\nLearn about ethical guidance that governs lawyers’ use of generative AI tools and how paralegals can comply with or violate that guidance.\nExplore genAI’s practical strengths and weaknesses for paralegal work \nCLE Hours = 6 (1-Legal Ethics\, 4-Substantive\, 1-Technology)
URL:https://nala.org/event/2026-annual-seminar/
LOCATION:Hillsborough Community College\, 1320 E Palm Ave 3rd Floor\, Tampa\, FL\, 33605\, United States
CATEGORIES:Affiliated Associations CLE
END:VEVENT
END:VCALENDAR