BEGIN:VCALENDAR
VERSION:2.0
PRODID:-//NALA - ECPv6.15.15//NONSGML v1.0//EN
CALSCALE:GREGORIAN
METHOD:PUBLISH
X-WR-CALNAME:NALA
X-ORIGINAL-URL:https://nala.org
X-WR-CALDESC:Events for NALA
REFRESH-INTERVAL;VALUE=DURATION:PT1H
X-Robots-Tag:noindex
X-PUBLISHED-TTL:PT1H
BEGIN:VTIMEZONE
TZID:America/Los_Angeles
BEGIN:DAYLIGHT
TZOFFSETFROM:-0800
TZOFFSETTO:-0700
TZNAME:PDT
DTSTART:20250309T100000
END:DAYLIGHT
BEGIN:STANDARD
TZOFFSETFROM:-0700
TZOFFSETTO:-0800
TZNAME:PST
DTSTART:20251102T090000
END:STANDARD
BEGIN:DAYLIGHT
TZOFFSETFROM:-0800
TZOFFSETTO:-0700
TZNAME:PDT
DTSTART:20260308T100000
END:DAYLIGHT
BEGIN:STANDARD
TZOFFSETFROM:-0700
TZOFFSETTO:-0800
TZNAME:PST
DTSTART:20261101T090000
END:STANDARD
BEGIN:DAYLIGHT
TZOFFSETFROM:-0800
TZOFFSETTO:-0700
TZNAME:PDT
DTSTART:20270314T100000
END:DAYLIGHT
BEGIN:STANDARD
TZOFFSETFROM:-0700
TZOFFSETTO:-0800
TZNAME:PST
DTSTART:20271107T090000
END:STANDARD
END:VTIMEZONE
BEGIN:VEVENT
DTSTART;TZID=America/Los_Angeles:20260421T093000
DTEND;TZID=America/Los_Angeles:20260421T103000
DTSTAMP:20260422T174630
CREATED:20260420T163618Z
LAST-MODIFIED:20260420T163618Z
UID:10000581-1776763800-1776767400@nala.org
SUMMARY:Trial Ready: How the Best Paralegals Stay Three Steps Ahead
DESCRIPTION:Steno\nJoin Joe Stephens\, J.D.\, for a practical\, skills-forward session built specifically for legal support professionals who want to level up their trial prep game. You’ll walk away with proven techniques for anticipating attorney needs\, organizing critical documents\, and transforming complex case materials into compelling\, court-ready presentations faster than ever before. \nYou’ll explore: \n– Attorney Work Styles: Understanding how your attorney actually thinks and building systems around it\n– Document & Timeline Mastery: Organizing case materials in ways that hold up under trial pressure\n– Deposition Support: What seamless deposition prep looks like before\, during\, and after\n– AI Workflows: How modern tools are helping paralegals move from reactive support to proactive case architecture\n– Trial Excellence: Building the command center mentality that keeps everything running smoothly when it matters most \n  \nCLE Hours = 1 Non-substantive
URL:https://nala.org/event/trial-ready-how-the-best-paralegals-stay-three-steps-ahead/
LOCATION:Virtual
CATEGORIES:Third Party CLE
ORGANIZER;CN="Steno":MAILTO:tara.dwyer@steno.com
END:VEVENT
END:VCALENDAR